BEGIN:VCALENDAR
VERSION:2.0
PRODID:-//wp-events-plugin.com//7.2.3.1//EN
TZID:America/Los_Angeles
X-WR-TIMEZONE:America/Los_Angeles
BEGIN:VEVENT
UID:833@koltikvah.org
DTSTART;TZID=America/Los_Angeles:20260323T190000
DTEND;TZID=America/Los_Angeles:20260323T203000
DTSTAMP:20260317T212600Z
URL:https://www.koltikvah.org/events/defining-god-with-rabbi-jon/
SUMMARY:Defining God with Rabbi Jon
DESCRIPTION:Monday\, March 23 | 7:00 - 8:30 p.m. on Zoom\nDefining God (Cla
 ss 2/3)\nClass taught by Rabbi Jon Hanish\nWhen people say to me\, “I do
 n’t believe in God\," I typically respond\, “What God don’t you beli
 eve in?” This leads to a conversation where the speaker has one definiti
 on of God and one only\, and they disagree with it vehemently. But\, Judai
 sm is not limited to one definition. God has been defined and redefined by
  rabbis\, scholars\, and theologians over the past 3000 years. To put it s
 imply\, there is no singular definition of God found with Judaism. In this
  class\, we will study different God models in order to understand God in 
 a variety of ways. Hopefully\, there will a model that allows you to acces
 s your Judaism more fully.\nSign up for the class&nbsp\;HERE.
CATEGORIES:Adult Education
END:VEVENT
BEGIN:VTIMEZONE
TZID:America/Los_Angeles
X-LIC-LOCATION:America/Los_Angeles
BEGIN:DAYLIGHT
DTSTART:20260308T030000
TZOFFSETFROM:-0800
TZOFFSETTO:-0700
TZNAME:PDT
END:DAYLIGHT
END:VTIMEZONE
END:VCALENDAR