BEGIN:VCALENDAR
VERSION:2.0
PRODID:-//wp-events-plugin.com//7.2.3.1//EN
TZID:America/Los_Angeles
X-WR-TIMEZONE:America/Los_Angeles
BEGIN:VEVENT
UID:832@koltikvah.org
DTSTART;TZID=America/Los_Angeles:20260322T114500
DTEND;TZID=America/Los_Angeles:20260322T144500
DTSTAMP:20260317T212414Z
URL:https://www.koltikvah.org/events/mitzvah-bus-staycation/
SUMMARY:Mitzvah Bus Staycation
DESCRIPTION:Sunday\, March 22 | 11:45 a.m. - 2:45 p.m.\nMitzvah Bus Staycat
 ion\nAs ICE continues to descend on Los Angeles and our country at large\,
  it is our responsibility to keep our sanctuary city a true sanctuary. Ple
 ase join us at Kol Tikvah for a day of learning and action about how we ca
 n support and defend our communities against deportations.\nThis is a free
  event. To keep this event free\, we ask that you bring $18/ $36 worth of 
 shelf stable groceries (per child under 12/ adult) to sort and pack for di
 stribution to people at risk of deportation.&nbsp\;Here is a link&nbsp\;to
  food donation recommendations.\nMore info and RSVP&nbsp\;HERE.
CATEGORIES:Community Events
END:VEVENT
BEGIN:VTIMEZONE
TZID:America/Los_Angeles
X-LIC-LOCATION:America/Los_Angeles
BEGIN:DAYLIGHT
DTSTART:20260308T030000
TZOFFSETFROM:-0800
TZOFFSETTO:-0700
TZNAME:PDT
END:DAYLIGHT
END:VTIMEZONE
END:VCALENDAR