BEGIN:VCALENDAR
VERSION:2.0
PRODID:-//wp-events-plugin.com//7.2.3.1//EN
TZID:America/Los_Angeles
X-WR-TIMEZONE:America/Los_Angeles
BEGIN:VEVENT
UID:831@koltikvah.org
DTSTART;TZID=America/Los_Angeles:20260417T173000
DTEND;TZID=America/Los_Angeles:20260417T183000
DTSTAMP:20260115T204907Z
URL:https://www.koltikvah.org/events/renaissance-pre-shabbat-happy-hour-10
 /
SUMMARY:Renaissance Pre-Shabbat Happy Hour
DESCRIPTION:Friday\, January 16 | 5:30 p.m.\nRenaissance Pre-Shabbat Happy 
 Hour\nJoin us prior to Shabbat services to connect and unwind.&nbsp\;
CATEGORIES:Renaissance Group
END:VEVENT
BEGIN:VTIMEZONE
TZID:America/Los_Angeles
X-LIC-LOCATION:America/Los_Angeles
BEGIN:DAYLIGHT
DTSTART:20260308T030000
TZOFFSETFROM:-0800
TZOFFSETTO:-0700
TZNAME:PDT
END:DAYLIGHT
END:VTIMEZONE
END:VCALENDAR