BEGIN:VCALENDAR
VERSION:2.0
PRODID:-//wp-events-plugin.com//7.2.3.1//EN
TZID:America/Los_Angeles
X-WR-TIMEZONE:America/Los_Angeles
BEGIN:VEVENT
UID:722@koltikvah.org
DTSTART;TZID=America/Los_Angeles:20260302T113000
DTEND;TZID=America/Los_Angeles:20260302T113000
DTSTAMP:20250723T000250Z
URL:https://www.koltikvah.org/events/torah-study-2025-08-04-2025-08-11-202
 5-08-18-2025-08-25-2025-09-01-2025-09-08-2025-09-15-2025-09-22-2025-09-29-
 2025-10-06-2025-10-13-2025-10-20-2025-10-27-2025-11-03-2025-11-10-2025-11-
 1-23-2026-03-02/
SUMMARY:Torah Study
DESCRIPTION:
CATEGORIES:Adult Education
END:VEVENT
BEGIN:VTIMEZONE
TZID:America/Los_Angeles
X-LIC-LOCATION:America/Los_Angeles
BEGIN:STANDARD
DTSTART:20251102T010000
TZOFFSETFROM:-0700
TZOFFSETTO:-0800
TZNAME:PST
END:STANDARD
END:VTIMEZONE
END:VCALENDAR