BEGIN:VCALENDAR
VERSION:2.0
PRODID:-//wp-events-plugin.com//7.2.3.1//EN
TZID:America/Los_Angeles
X-WR-TIMEZONE:America/Los_Angeles
BEGIN:VEVENT
UID:690@koltikvah.org
DTSTART;TZID=America/Los_Angeles:20260228T093000
DTEND;TZID=America/Los_Angeles:20260228T103000
DTSTAMP:20250731T183156Z
URL:https://www.koltikvah.org/events/young-family-shabbat-3/
SUMMARY:Young Family Shabbat
DESCRIPTION:Join Miss Melo and Rabbi Chess&nbsp\;to welcome Shabbat with mo
 vement\, songs\, stories\, and prayer while we introduce Jewish traditions
  and rituals. We welcome you all to this fun and engaging service on Satur
 day morning designed for families to experience Shabbat together\, connect
  with other Jewish families\, and feel the abundant joy&nbsp\;here at Kol 
 Tikvah!\n\nYoung Family Shabbat is designed especially for kids aged 2-8\,
  but all family members are welcome to join!\n\nClick HERE to RSVP.
CATEGORIES:Shabbat Services
END:VEVENT
BEGIN:VTIMEZONE
TZID:America/Los_Angeles
X-LIC-LOCATION:America/Los_Angeles
BEGIN:STANDARD
DTSTART:20251102T010000
TZOFFSETFROM:-0700
TZOFFSETTO:-0800
TZNAME:PST
END:STANDARD
END:VTIMEZONE
END:VCALENDAR